BEGIN:VCALENDAR
VERSION:2.0
PRODID:-//eventon.com NONSGML v1.0//EN
CALSCALE:GREGORIAN
METHOD:PUBLISH
BEGIN:VEVENT
UID:69e9d5741aaf4
DTSTAMP:20260423T081652Z
DTSTART:20260501T150000Z
DTEND:20260501T160000Z
LOCATION:Online
SUMMARY:Free Webinar: D&B + FIS GetPaid
DESCRIPTION:We&#8217;re thrilled to announce a groundbreaking partnership b
 etween Dun &amp; Bradstreet and FIS GetPaid\,  aimed at revolutionizing col
 lections management.&nbsp; Join us for an exclusive&nbsp;webinar&nbsp;where
  we&#8217;ll introduce you to the powerful collections&nbsp;module with FIS
  GetPaid. Monday\,  May 1\,  2026\,  at 10 AM CT Introduction to the Partne
 rshipLearn about the strategic alliance[..]\nhttps://www.nacmconnect.org/ev
 ents/free-webinar-db-fis-getpaid/
URL:https://www.nacmconnect.org/events/free-webinar-db-fis-getpaid/
END:VEVENT
END:VCALENDAR