BEGIN:VCALENDAR
VERSION:2.0
PRODID:-//eventon.com NONSGML v1.0//EN
CALSCALE:GREGORIAN
METHOD:PUBLISH
BEGIN:VEVENT
UID:69e9d7ac7ffa4
DTSTAMP:20260423T082620Z
DTSTART:20260622T224000Z
DTEND:20260623T020000Z
LOCATION:Comerica Park 2100 Woodward Ave\,  Detroit\,  MI
SUMMARY:Detroit Member Social Event
DESCRIPTION:Sponsored by NACM Southwest Collection Services Comerica Park21
 00 Woodward AveDetroit\,  MI 48201 Date: June 22\,  2026$30 per personOne c
 oupon per company may be used for this event. No reservations will be taken
  after June 8\,  2026This event is open to NACM Connect members only. Ticke
 ts will be available strictly on[..]\nhttps://www.nacmconnect.org/events/de
 troit-member-social-event-2/
URL:https://www.nacmconnect.org/events/detroit-member-social-event-2/
END:VEVENT
END:VCALENDAR