BEGIN:VCALENDAR
VERSION:2.0
PRODID:-//eventon.com NONSGML v1.0//EN
CALSCALE:GREGORIAN
METHOD:PUBLISH
BEGIN:VEVENT
UID:69e9d6a53ef9b
DTSTAMP:20260423T082157Z
DTSTART:20260521T153000Z
DTEND:20260521T173000Z
LOCATION:
SUMMARY:Indiana Best Practices Discussion Group: Zoom
DESCRIPTION:We understand that information in today’s credit world is vit
 al. Participating in a Best Practices Discussion Group will provide you wit
 h credit-specific education\,  contacts in the local credit community\,  an
 d the opportunity to share ideas with colleagues. Next Meeting Topic: THE 7
  WORST PRACTICES IN AR Speaker:Caroline Perkins\,  CCEMickey Thompson[..]\n
 https://www.nacmconnect.org/events/indiana-best-practices-discussion-group-
 zoom-may-21-2026/
URL:https://www.nacmconnect.org/events/indiana-best-practices-discussion-group-zoom-may-21-2026/
END:VEVENT
END:VCALENDAR