BEGIN:VCALENDAR
VERSION:2.0
PRODID:-//eventon.com NONSGML v1.0//EN
CALSCALE:GREGORIAN
METHOD:PUBLISH
BEGIN:VEVENT
UID:69e9dc3ef2b48
DTSTAMP:20260423T084550Z
DTSTART:20260617T153000Z
DTEND:20260617T173000Z
LOCATION:Nova Biomedical 200 Prospect Street\,  Waltham\,  MA 02454
SUMMARY:East Coast Best Practices Discussion Group: Massachusetts
DESCRIPTION:We understand that information in today’s credit world is vit
 al. Participating in a Best Practices Discussion Group will provide you wit
 h credit-specific education\,  contacts in the local credit community\,  an
 d the opportunity to share ideas with colleagues. Location:Nova Biomedical2
 00 Prospect Street\,  Waltham\,  MA 02454 Date: June 17\,  2026 Discussion 
 Topic:[..]\nhttps://www.nacmconnect.org/events/east-coast-best-practices-di
 scussion-group-massachusetts/
URL:https://www.nacmconnect.org/events/east-coast-best-practices-discussion-group-massachusetts/
END:VEVENT
END:VCALENDAR