BEGIN:VCALENDAR
VERSION:2.0
PRODID:-//eventon.com NONSGML v1.0//EN
CALSCALE:GREGORIAN
METHOD:PUBLISH
BEGIN:VEVENT
UID:69e9d60fbbe92
DTSTAMP:20260423T081927Z
DTSTART:20260618T223500Z
DTEND:20260619T003500Z
LOCATION:Sahlen Field James D Griffin Plaza
SUMMARY:Buffalo Member Social Event
DESCRIPTION:Sahlen Field James D Griffin Plaza\,  Buffalo\,  NY 14203 Charl
 otte Knights vs. Buffalo Bisons Date: June 18\,  2026$15 per memberFood and
  drink are provided No reservations will be taken after June 4\,  2026.This
  event is open to NACM Connect members only. Tickets will be available stri
 ctly on a first-come\,  first-served[..]\nhttps://www.nacmconnect.org/event
 s/buffalo-member-social-event/
URL:https://www.nacmconnect.org/events/buffalo-member-social-event/
END:VEVENT
END:VCALENDAR