BEGIN:VCALENDAR
VERSION:2.0
PRODID:-//eventon.com NONSGML v1.0//EN
CALSCALE:GREGORIAN
METHOD:PUBLISH
BEGIN:VEVENT
UID:69e74aa09d91e
DTSTAMP:20260421T100000Z
DTSTART:20260804T150000Z
DTEND:20260804T160000Z
LOCATION:
SUMMARY:2026 Coffee with Connect
DESCRIPTION:Registration Coming Soon Mark Your Calendars Topic\,  details\,
   and host to be released soon. The Details Dates: August 4 Time: 10:00 AM 
 – 11:00 AM CT Format: Zoom Duration: 1 Hour per session If you have quest
 ions\,  please contact Bob Rabe at bob.rabe@nacmconnect.org\nhttps://www.na
 cmconnect.org/events/2026-coffee-with-connect-5/
URL:https://www.nacmconnect.org/events/2026-coffee-with-connect-5/
END:VEVENT
END:VCALENDAR