BEGIN:VCALENDAR
VERSION:2.0
PRODID:-//eventon.com NONSGML v1.0//EN
CALSCALE:GREGORIAN
METHOD:PUBLISH
BEGIN:VEVENT
UID:69e74bc10e229
DTSTAMP:20260421T100449Z
DTSTART:20251029T163000Z
DTEND:20251029T190000Z
LOCATION:Mead Public Library 710 North 8th Street\,  Sheboygan\,  WI
SUMMARY:Eastern Wisconsin Best Practices Discussion Group Fall 25
DESCRIPTION:We understand that information in today&#8217;s credit world is
  vital. Participating in a Best Practices Discussion Group will provide you
  with credit-specific education\,  contacts in the local credit community\,
   and the opportunity to share ideas with fellow colleagues. Meeting Date:W
 ednesday\,  October 29\,  202511:30 a.m. &#8211; 2 p.m. Next Meeting Topic:
 Transitioning[..]\nhttps://www.nacmconnect.org/events/eastern-wisconsin-bes
 t-practices-discussion-group-fall-25/
URL:https://www.nacmconnect.org/events/eastern-wisconsin-best-practices-discussion-group-fall-25/
END:VEVENT
END:VCALENDAR