BEGIN:VCALENDAR
VERSION:2.0
PRODID:-//eventon.com NONSGML v1.0//EN
CALSCALE:GREGORIAN
METHOD:PUBLISH
BEGIN:VEVENT
UID:69e5fde30597d
DTSTAMP:20260420T102019Z
DTSTART:20251120T163000Z
DTEND:20251120T183000Z
LOCATION:
SUMMARY:Indiana Best Practices Discussion Group: Zoom
DESCRIPTION:We understand that information in today’s credit world is vit
 al. Participating in a Best Practices Discussion Group will provide you wit
 h credit-specific education\,  contacts in the local credit community\,  an
 d the opportunity to share ideas with fellow colleagues. Next Meeting Topic
 s: Building the Perfect Credit Professional…skill sets and personality tr
 aits[..]\nhttps://www.nacmconnect.org/events/indiana-best-practices-discuss
 ion-group-zoom-4/
URL:https://www.nacmconnect.org/events/indiana-best-practices-discussion-group-zoom-4/
END:VEVENT
END:VCALENDAR