BEGIN:VCALENDAR
VERSION:2.0
PRODID:-//eventon.com NONSGML v1.0//EN
CALSCALE:GREGORIAN
METHOD:PUBLISH
BEGIN:VEVENT
UID:69e9d648a486c
DTSTAMP:20260423T082024Z
DTSTART:20260513T140000Z
DTEND:20260513T210000Z
LOCATION:Zoom
SUMMARY:Credit 101 via Zoom
DESCRIPTION:Credit 101 is a basic-level orientation program that introduces
  newcomers to the multifaceted field of credit management. This session exa
 mines the credit function\,  the procedures and tasks performed in a typica
 l credit department\,  and how those procedures impact an entire organizati
 on. Curriculum: The credit department function Credit investigation Credit 
 policy[..]\nhttps://www.nacmconnect.org/events/credit-101-via-zoom-7/
URL:https://www.nacmconnect.org/events/credit-101-via-zoom-7/
END:VEVENT
END:VCALENDAR