BEGIN:VCALENDAR
VERSION:2.0
PRODID:-//eventon.com NONSGML v1.0//EN
CALSCALE:GREGORIAN
METHOD:PUBLISH
BEGIN:VEVENT
UID:69e738ef2ae28
DTSTAMP:20260421T084431Z
DTSTART:20250730T140000Z
DTEND:20250730T150000Z
LOCATION:Zoom
SUMMARY:East Coast Best Practices Discussion Group: Zoom Meeting
DESCRIPTION:We understand that information in today’s credit world is vit
 al. Participating in a Best Practices Discussion Group will provide you wit
 h credit-specific education\,  contacts in the local credit community\,  an
 d the opportunity to share ideas with fellow colleagues. Location:ZOOM Date
 : July 30\,  2025 Discussion Topic: Credit Fraud&#8230; What You and[..]\nh
 ttps://www.nacmconnect.org/events/east-coast-best-practices-discussion-grou
 p-zoom-meeting-3/
URL:https://www.nacmconnect.org/events/east-coast-best-practices-discussion-group-zoom-meeting-3/
END:VEVENT
END:VCALENDAR