BEGIN:VCALENDAR
VERSION:2.0
PRODID:-//eventon.com NONSGML v1.0//EN
CALSCALE:GREGORIAN
METHOD:PUBLISH
BEGIN:VEVENT
UID:69e7390ee0ac2
DTSTAMP:20260421T084502Z
DTSTART:20241003T160000Z
DTEND:20241003T183000Z
LOCATION:Salute Restaurant 100 Trumbull St
SUMMARY:New England Best Practices Discussion Group: In Person
DESCRIPTION:We understand that information in today’s credit world is vit
 al. Participating in a Best Practices Discussion Group will provide you wit
 h credit-specific education\,  contacts in the local credit community\,  an
 d the opportunity to share ideas with fellow colleagues. Location:Salute Re
 staurant|100 Trumbull St\,  Hartford\,  Connecticut 06103 Meetings: 6 Times
  Each Year[..]\nhttps://www.nacmconnect.org/events/new-england-best-practic
 es-discussion-group-in-person/
URL:https://www.nacmconnect.org/events/new-england-best-practices-discussion-group-in-person/
END:VEVENT
END:VCALENDAR