BEGIN:VCALENDAR
VERSION:2.0
PRODID:-//eventon.com NONSGML v1.0//EN
CALSCALE:GREGORIAN
METHOD:PUBLISH
BEGIN:VEVENT
UID:69e737f56a211
DTSTAMP:20260421T084021Z
DTSTART:20240918T153000Z
DTEND:20240918T173000Z
LOCATION:Cengage Group 5191 Natorp Blvd.
SUMMARY:Roundtable Discussion – Mason\,  OH
DESCRIPTION:***REGISTRATION IS CLOSED*** Roundtable discussions are a great
  opportunity to review\,  discuss\,  question\,  and learn best practices w
 ith credit professionals of countless experiences and backgrounds\,  across
  various industries and company sizes. DISCUSSION TOPICS:Collection Strateg
 ies and Measurements to Improve Performance MODERATOR:Tim Plummer COST:$30 
 members | $60 non-membersOne coupon per person is[..]\nhttps://www.nacmconn
 ect.org/events/roundtable-discussion-mason-oh/
URL:https://www.nacmconnect.org/events/roundtable-discussion-mason-oh/
END:VEVENT
END:VCALENDAR