BEGIN:VCALENDAR
VERSION:2.0
PRODID:-//eventon.com NONSGML v1.0//EN
CALSCALE:GREGORIAN
METHOD:PUBLISH
BEGIN:VEVENT
UID:69e74c0fdaa55
DTSTAMP:20260421T100607Z
DTSTART:20240724T170000Z
DTEND:20240724T190000Z
LOCATION:Holiday&#039;s Pub &amp; Grill 5533 Superior Avenue\,  Sheboygan\,  WI 53083
SUMMARY:Eastern Wisconsin Best Practices Discussion Group
DESCRIPTION:We understand that information in today&#8217;s credit world is
  vital. Participating in a Best Practices Discussion Group will provide you
  with credit-specific education\,  contacts in the local credit community\,
   and the opportunity to share ideas with fellow colleagues. Meeting Date:W
 ednesday\,  July 24\,  202412 &#8211; 2 p.m. CT Next Meeting Topic:Building
 [..]\nhttps://www.nacmconnect.org/events/eastern-wisconsin-best-practices-d
 iscussion-group-7-24-2024/
URL:https://www.nacmconnect.org/events/eastern-wisconsin-best-practices-discussion-group-7-24-2024/
END:VEVENT
END:VCALENDAR