BEGIN:VCALENDAR
VERSION:2.0
PRODID:-//eventon.com NONSGML v1.0//EN
CALSCALE:GREGORIAN
METHOD:PUBLISH
BEGIN:VEVENT
UID:69e74acfcee99
DTSTAMP:20260421T100047Z
DTSTART:20240717T153000Z
DTEND:20240717T163000Z
LOCATION:Zoom
SUMMARY:Pennsylvania Zoom Presentation
DESCRIPTION:Meeting Topic:Keeping Yourself &amp; Your Business Safe and San
 e Online Topic Description:Another day\,  another data breach\,  identity t
 heft\,  and instance of financial fraud. We’re all connected\,  but are w
 e properly protected? There are some simple things we can do to reduce the 
 risk of living and working in this crazy[..]\nhttps://www.nacmconnect.org/e
 vents/pennsylvania-zoom-presentation-7-17-2024/
URL:https://www.nacmconnect.org/events/pennsylvania-zoom-presentation-7-17-2024/
END:VEVENT
END:VCALENDAR