BEGIN:VCALENDAR
VERSION:2.0
PRODID:-//eventon.com NONSGML v1.0//EN
CALSCALE:GREGORIAN
METHOD:PUBLISH
BEGIN:VEVENT
UID:69e7389741d90
DTSTAMP:20260421T084303Z
DTSTART:20240820T130000Z
DTEND:20240820T200000Z
LOCATION:Fechheimer Brothers Co. 4545 Malsbary Road\,  Cincinnati\,  OH 45242
SUMMARY:Credit 101 - Cincinnati\,  Ohio
DESCRIPTION:Credit 101 is a basic-level orientation program that introduces
  newcomers to the multifaceted field of credit management. This session exa
 mines the credit function\,  the procedures and tasks performed in a typica
 l credit department\,  and how those procedures impact an entire organizati
 on. Instructor:Terri Eggebeen Fechheimer Brothers Co. Curriculum• The cre
 dit department[..]\nhttps://www.nacmconnect.org/events/credit-101-cincinnat
 i-ohio-8-20-2024/
URL:https://www.nacmconnect.org/events/credit-101-cincinnati-ohio-8-20-2024/
END:VEVENT
END:VCALENDAR