BEGIN:VCALENDAR
VERSION:2.0
PRODID:-//eventon.com NONSGML v1.0//EN
CALSCALE:GREGORIAN
METHOD:PUBLISH
BEGIN:VEVENT
UID:69e73127d3c17
DTSTAMP:20260421T081119Z
DTSTART:20240906T153000Z
DTEND:20240906T173000Z
LOCATION:Carhartt\,  Inc. 5800 Mercury Drive\,  Dearborn\,  MI 48126-4617
SUMMARY:Roundtable Discussion - Dearborn\,  MI
DESCRIPTION:Roundtable discussions are a great opportunity to review\,  dis
 cuss\,  question\,  and learn best practices with credit professionals of c
 ountless experience and backgrounds\,  across various industries and compan
 y sizes. Discussion Topic:Recovering in a Softening Market: What’s Impedi
 ng Timely Payment? Moderator:Anissa Martin\,  CCECarhartt\,  Inc. Cost:$30 
 members | $60 non-membersOne coupon per person[..]\nhttps://www.nacmconnect
 .org/events/roundtable-discussion-dearborn-mi-9-6-2024/
URL:https://www.nacmconnect.org/events/roundtable-discussion-dearborn-mi-9-6-2024/
END:VEVENT
END:VCALENDAR