BEGIN:VCALENDAR
VERSION:2.0
PRODID:-//eventon.com NONSGML v1.0//EN
CALSCALE:GREGORIAN
METHOD:PUBLISH
BEGIN:VEVENT
UID:69e738c179a48
DTSTAMP:20260421T084345Z
DTSTART:20240515T153000Z
DTEND:20240515T163000Z
LOCATION:Zoom
SUMMARY:Pennsylvania Zoom Presentation
DESCRIPTION:Meeting Topic:Latest Developments in Credit Card Surcharging To
 pic Description:As most states (and Canada) have eased or eliminated the re
 strictions on credit card surcharging\,  many trade creditors have implemen
 ted a strategy to recover these costs. Implementing such a surcharge strate
 gy raises many questions not only for the credit team\,  but also[..]\nhttp
 s://www.nacmconnect.org/events/pennsylvania-zoom-presentation-5-15-2024/
URL:https://www.nacmconnect.org/events/pennsylvania-zoom-presentation-5-15-2024/
END:VEVENT
END:VCALENDAR