BEGIN:VCALENDAR
VERSION:2.0
PRODID:-//eventon.com NONSGML v1.0//EN
CALSCALE:GREGORIAN
METHOD:PUBLISH
BEGIN:VEVENT
UID:69e5ec0627617
DTSTAMP:20260420T090406Z
DTSTART:20240507T140000Z
DTEND:20240507T220000Z
LOCATION:Marriott Kansas City Overland Park 10800 Metcalf Avenue\,  Overland Park\,  KS 66210
SUMMARY:2024 Annual Meeting – Kansas City\,  KS
DESCRIPTION:NACM Connect&#8217;s regional annual meetings offer credit prof
 essionals&nbsp;incredible networking and educational opportunities to learn
  from your peers and leaders in the commercial credit industry. PricingIn-P
 erson$199 members (Two coupons per company are valid) $398 nonmembers CEU p
 oints and CCE recertification points are available for all educational sess
 ions. All registrations are taken[..]\nhttps://www.nacmconnect.org/events/2
 024-annual-meeting-kansas-city/
URL:https://www.nacmconnect.org/events/2024-annual-meeting-kansas-city/
END:VEVENT
END:VCALENDAR