BEGIN:VCALENDAR
VERSION:2.0
PRODID:-//eventon.com NONSGML v1.0//EN
CALSCALE:GREGORIAN
METHOD:PUBLISH
BEGIN:VEVENT
UID:69e7389260b17
DTSTAMP:20260421T084258Z
DTSTART:20240220T230000Z
DTEND:20240221T020000Z
LOCATION:Zoom
SUMMARY:CBA Review Class via Zoom
DESCRIPTION:2024 Exam Dates:Monday\,  March 4 &#8212;-> CBA Review Class on
  Tuesday\,  February 20 Monday\,  July 22 &#8212;-> CBA Review Class on Thu
 rsday\,  June 13Monday\,  November 4 &#8212;-> CBA Review Class on Thursday
 \,  September 12 Instructor:Ron Sereika\,  CCE Tuition:$125 per classOne co
 upon is valid per person. All registrations for NACM Connect[..]\nhttps://w
 ww.nacmconnect.org/events/cba-review-class-via-zoom-1-15-2024/
URL:https://www.nacmconnect.org/events/cba-review-class-via-zoom-1-15-2024/
END:VEVENT
END:VCALENDAR