BEGIN:VCALENDAR
VERSION:2.0
PRODID:-//eventon.com NONSGML v1.0//EN
CALSCALE:GREGORIAN
METHOD:PUBLISH
BEGIN:VEVENT
UID:69e738adb99df
DTSTAMP:20260421T084325Z
DTSTART:20240117T163000Z
DTEND:20240117T173000Z
LOCATION:Zoom
SUMMARY:Pennsylvania Lien Law... A Refresher
DESCRIPTION:You will be given an update and refresher on Pennsylvania lien 
 law provisions and discuss other lien law updates in adjoining states. Spea
 kerJerry BaileyNCS Credit Cost $30 for NACM Connect members $60 for non-NAC
 M Connect members FREE to current members of the Pittsburgh Construction Gr
 oup\,  Central PA Builders Group\,  and[..]\nhttps://www.nacmconnect.org/ev
 ents/pennsylvania-lien-law-a-refresher-1-17-2024/
URL:https://www.nacmconnect.org/events/pennsylvania-lien-law-a-refresher-1-17-2024/
END:VEVENT
END:VCALENDAR