BEGIN:VCALENDAR
VERSION:2.0
PRODID:-//eventon.com NONSGML v1.0//EN
CALSCALE:GREGORIAN
METHOD:PUBLISH
BEGIN:VEVENT
UID:69e5ebebe6fce
DTSTAMP:20260420T090339Z
DTSTART:20240710T140000Z
DTEND:20240710T210000Z
LOCATION:Zoom
SUMMARY:Credit 103 via Zoom
DESCRIPTION:Credit 103 is designed for mid-level credit professionals who w
 ould like to learn where they fit into the corporate structure and give the
 m tools\,  which are not widely talked about\,  and creating a positive imp
 act on the mission of their credit department. This course is interactive a
 nd will include scenarios[..]\nhttps://www.nacmconnect.org/events/credit-10
 3-via-zoom-7-10-2024/
URL:https://www.nacmconnect.org/events/credit-103-via-zoom-7-10-2024/
END:VEVENT
END:VCALENDAR