BEGIN:VCALENDAR
VERSION:2.0
PRODID:-//eventon.com NONSGML v1.0//EN
CALSCALE:GREGORIAN
METHOD:PUBLISH
BEGIN:VEVENT
UID:69e5eb8ee2952
DTSTAMP:20260420T090206Z
DTSTART:20230927T150000Z
DTEND:20230928T045000Z
LOCATION:Zoom
SUMMARY:Webinar: Making Sense of Chat GPT in Collections
DESCRIPTION:Chat GPT has taken the financial services and collections indus
 try by storm. Not only has this free technology been widely accepted and ad
 opted by the collection industry\,  it has also helped launch an AI technol
 ogy arms race with new products and services being launched each month. Lea
 rn the pros\,  cons\, [..]\nhttps://www.nacmconnect.org/events/making-sense
 -of-chat-gpt-in-collections/
URL:https://www.nacmconnect.org/events/making-sense-of-chat-gpt-in-collections/
END:VEVENT
END:VCALENDAR