BEGIN:VCALENDAR
VERSION:2.0
PRODID:-//eventon.com NONSGML v1.0//EN
CALSCALE:GREGORIAN
METHOD:PUBLISH
BEGIN:VEVENT
UID:69e5ec2fb0218
DTSTAMP:20260420T090447Z
DTSTART:20230913T130000Z
DTEND:20230913T200000Z
LOCATION:Viking Group\,  Inc. 2275 International Street\,  Columbus\,  OH 43228
SUMMARY:Credit 103 - Columbus\,  OH
DESCRIPTION:Credit 103 is designed for mid-level credit professionals who w
 ould like to learn where they fit into the corporate structure and give the
 m tools\,  which are not widely talked about\,  and create a positive impac
 t on the mission of their credit department. This course is interactive and
  will include scenarios[..]\nhttps://www.nacmconnect.org/events/credit-103-
 columbus-oh-9-13-2023/
URL:https://www.nacmconnect.org/events/credit-103-columbus-oh-9-13-2023/
END:VEVENT
END:VCALENDAR