BEGIN:VCALENDAR
VERSION:2.0
PRODID:-//eventon.com NONSGML v1.0//EN
CALSCALE:GREGORIAN
METHOD:PUBLISH
BEGIN:VEVENT
UID:69e738ad358ee
DTSTAMP:20260421T084325Z
DTSTART:20230627T150000Z
DTEND:20230627T160000Z
LOCATION:Zoom
SUMMARY:New Payment Innovations Webinar
DESCRIPTION:During this informative session\,  we will focus on strategies 
 to obtain further cost reductions by adding payment automation in ways that
  are considered unique. This session will present options to reduce residua
 l and costly pre-existing processes. Some of what will be addressed is cons
 idered “low hanging fruit”… something for everyone\, [..]\nhttps://ww
 w.nacmconnect.org/events/new-payment-innovations-webinar-6-27-2023/
URL:https://www.nacmconnect.org/events/new-payment-innovations-webinar-6-27-2023/
END:VEVENT
END:VCALENDAR