BEGIN:VCALENDAR
VERSION:2.0
PRODID:-//eventon.com NONSGML v1.0//EN
CALSCALE:GREGORIAN
METHOD:PUBLISH
BEGIN:VEVENT
UID:69e7332ad129a
DTSTAMP:20260421T081954Z
DTSTART:20230224T160000Z
DTEND:20230224T163000Z
LOCATION:Zoom
SUMMARY:Free National Trade Credit Report Webinar
DESCRIPTION:\nhttps://www.nacmconnect.org/events/free-ntcr-webinar/
URL:https://www.nacmconnect.org/events/free-ntcr-webinar/
END:VEVENT
END:VCALENDAR