BEGIN:VCALENDAR
VERSION:2.0
PRODID:-//eventon.com NONSGML v1.0//EN
CALSCALE:GREGORIAN
METHOD:PUBLISH
BEGIN:VEVENT
UID:69e5ec2f561b5
DTSTAMP:20260420T090447Z
DTSTART:20230222T160000Z
DTEND:20230222T170000Z
LOCATION:Zoom
SUMMARY:Webinar: Assignments for the Benefit of Creditors and Receiverships
DESCRIPTION:There are numerous alternatives to bankruptcy that are frequent
 ly employed by both debtors and creditors to bring about efficient liquidat
 ions and wind-downs of distressed companies\,  and to protect and preserve 
 collateral upon allegations of mismanagement or wrongdoing. Among the most 
 commonly utilized alternatives are assignments for the benefits of creditor
 s[..]\nhttps://www.nacmconnect.org/events/webinar-assignments-for-the-benef
 it-of-creditors-and-receiverships/
URL:https://www.nacmconnect.org/events/webinar-assignments-for-the-benefit-of-creditors-and-receiverships/
END:VEVENT
END:VCALENDAR