BEGIN:VCALENDAR
VERSION:2.0
PRODID:-//eventon.com NONSGML v1.0//EN
CALSCALE:GREGORIAN
METHOD:PUBLISH
BEGIN:VEVENT
UID:69e5ec2ecbc93
DTSTAMP:20260420T090446Z
DTSTART:20220309T180000Z
DTEND:20220309T190000Z
LOCATION:Zoom
SUMMARY:Eastern Wisconsin Best Practices Discussion Group
DESCRIPTION:Guest Presenter: Michael RichmanSteinhilber Swanson LLPMadison\
 ,  WI For More Information or to Register:Please contact Frank Schetski at 
 frank.schetski@nacmconnect.org or 414.232.4565. We understand that informat
 ion in today’s credit world is vital. Participating in a Best Practices D
 iscussion Group will provide you with credit-specific education\,  contacts
  in the local credit community\,  and[..]\nhttps://www.nacmconnect.org/even
 ts/eastern-wisconsin-best-practices-discussion-group-2/
URL:https://www.nacmconnect.org/events/eastern-wisconsin-best-practices-discussion-group-2/
END:VEVENT
END:VCALENDAR