BEGIN:VCALENDAR
VERSION:2.0
PRODID:-//eventon.com NONSGML v1.0//EN
CALSCALE:GREGORIAN
METHOD:PUBLISH
BEGIN:VEVENT
UID:69e73312f1186
DTSTAMP:20260421T081930Z
DTSTART:20220412T140000Z
DTEND:20220412T100000Z
LOCATION:Orlando&#039;s Event &amp; Conference Center 2050 Dorsett Village Plaza\,  Maryland Heights\,  MO 63043
SUMMARY:2022 Annual Meeting – St. Louis\,  MO
DESCRIPTION:2022 Annual Meeting &#8211; St. Louis\,  MO\nhttps://www.nacmco
 nnect.org/events/2022-annual-meeting-st-louis-mo/
URL:https://www.nacmconnect.org/events/2022-annual-meeting-st-louis-mo/
END:VEVENT
END:VCALENDAR